BEGIN:VCALENDAR
VERSION:2.0
PRODID:-//MultiTech - ECPv6.10.2//NONSGML v1.0//EN
CALSCALE:GREGORIAN
METHOD:PUBLISH
X-WR-CALNAME:MultiTech
X-ORIGINAL-URL:https://multitech.com
X-WR-CALDESC:Events for MultiTech
REFRESH-INTERVAL;VALUE=DURATION:PT1H
X-Robots-Tag:noindex
X-PUBLISHED-TTL:PT1H
BEGIN:VTIMEZONE
TZID:America/Chicago
BEGIN:DAYLIGHT
TZOFFSETFROM:-0600
TZOFFSETTO:-0500
TZNAME:CDT
DTSTART:20240310T080000
END:DAYLIGHT
BEGIN:STANDARD
TZOFFSETFROM:-0500
TZOFFSETTO:-0600
TZNAME:CST
DTSTART:20241103T070000
END:STANDARD
END:VTIMEZONE
BEGIN:VEVENT
DTSTART;VALUE=DATE:20240925
DTEND;VALUE=DATE:20240927
DTSTAMP:20260414T183118
CREATED:20240919T160548Z
LAST-MODIFIED:20240919T193458Z
UID:54109-1727222400-1727395199@multitech.com
SUMMARY:The Things Conference 2024 (Amsterdam)
DESCRIPTION:« All Events\n 				\n				\n				\n				\n					\n	The Things Conference				\n				\n		\n		\n				\n				\n					Advancing LoRaWAN and Massive IoT Innovation				\n				\n				\n				\n					\n	\n		\n\n	\n	Add to calendar	\n		\n	\n\n		\n			\n									\n	Google Calendar\n\n									\n	iCalendar\n\n									\n	Outlook 365\n\n									\n	Outlook Live\n\n							\n		\n\n		\n	\n\n				\n				\n				\n				\n					\n		\n			September 23\n\n	\n\n	  @  \n\n\n8:00 am\n\n	\n\n		\n	\n	  -  \n\n	September 24\n\n	\n\n	  @  \n\n\n5:00 pm\n\n\n\n	\n				\n				\n				\n		\n				\n				\n							\n			 Days Hours Minutes		\n						\n				\n				\n				\n									\n					\n						\n						\n							\n									Schedule a Demo\n					\n					\n				\n								\n				\n				\n				\n		\n		\n				\n				\n					Meet MultiTech at The Things Conference to explore scalable LoRaWAN connectivity and infrastructure for large-scale IoT deployments.				\n				\n				\n				\n									MultiTech will be attending The Things Conference 2026\, one of the leading global gatherings focused on LoRaWAN and large-scale IoT deployments. The event brings together system integrators\, IoT developers\, product managers\, and technology leaders exploring the latest innovations in connected devices\, network infrastructure\, and data-driven applications. As a long-time contributor to the LoRaWAN ecosystem\, MultiTech helps organizations deploy reliable and scalable IoT networks through industrial gateways\, sensors\, and connectivity infrastructure designed to support real-world deployments across buildings\, cities\, utilities\, and industry. 								\n				\n				\n				\n		\n		\n				\n				\n					\n	\n	Tags:	\n		\n	Amsterdam technology events\,\n\n	connected infrastructure\,\n\n	edge computing\,\n\n	IIoT\,\n\n	Industrial IoT\,\n\n	IoT Connectivity\,\n\n	IoT developers\,\n\n	IoT gateways\,\n\n	IoT networks\,\n\n	IoT sensors\,\n\n	LoRa Alliance ecosystem\,\n\n	LoRaWAN\,\n\n	LoRaWAN gateways\,\n\n	LPWAN technology\,\n\n	massive IoT\,\n\n	Smart Buildings\,\n\n	Smart Cities\,\n\n	system integrators\,\n\n	The Things Conference\n	\n\n				\n				\n				\n				\n					\n	\n\n	Categories:	\n		Conference	\n\n				\n				\n				\n		\n				\n				\n					\n	\n	Website:	\n	https://www.thethingsconference.com/\n\n				\n				\n				\n				\n					\n	\n	The Things Industries\n	\n	\n\n	Phone:\n					\n						\n	 \n\n\n	\n\n	Website:View Organizer Website \n\n\n	\n	Email:\n					\n						\n	 \n\n\n\n				\n				\n				\n				\n		\n		\n				\n				\n					\n	\n		\n\n				RealComm IBcon	\n\n\n		\n	\n		IoT Solutions World Congress 2026
URL:https://multitech.com/event/the-things-conference-2024-amsterdam/
LOCATION:De Kromhouthal\, Gedempt Hamerkanaal 231\, 1021 KP Amsterdam\, Netherlands
CATEGORIES:Exhibiting
ATTACH;FMTTYPE=image/png:https://multitech.com/wp-content/uploads/TTC-2024-builders-and-buyers-in-lpwan-market.png
END:VEVENT
END:VCALENDAR