BEGIN:VCALENDAR
VERSION:2.0
PRODID:-//MultiTech - ECPv6.10.2//NONSGML v1.0//EN
CALSCALE:GREGORIAN
METHOD:PUBLISH
X-WR-CALNAME:MultiTech
X-ORIGINAL-URL:https://multitech.com
X-WR-CALDESC:Events for MultiTech
REFRESH-INTERVAL;VALUE=DURATION:PT1H
X-Robots-Tag:noindex
X-PUBLISHED-TTL:PT1H
BEGIN:VTIMEZONE
TZID:America/Chicago
BEGIN:DAYLIGHT
TZOFFSETFROM:-0600
TZOFFSETTO:-0500
TZNAME:CDT
DTSTART:20250309T080000
END:DAYLIGHT
BEGIN:STANDARD
TZOFFSETFROM:-0500
TZOFFSETTO:-0600
TZNAME:CST
DTSTART:20251102T070000
END:STANDARD
END:VTIMEZONE
BEGIN:VEVENT
DTSTART;TZID=America/Chicago:20250402T080000
DTEND;TZID=America/Chicago:20250403T170000
DTSTAMP:20260419T210434
CREATED:20250310T152024Z
LAST-MODIFIED:20250310T152137Z
UID:60670-1743580800-1743699600@multitech.com
SUMMARY:BIM World Paris 2025
DESCRIPTION:BIM World | Digital Twins is the benchmark event\, entirely dedicated to digital technology and innovation for buildings\, infrastructures and territories.\nThe positioning of the event is mainly structured around 8 major themes oriented by professions & fields of activity and by innovations & best practices.
URL:https://multitech.com/event/bim-world-paris/
LOCATION:Paris Expo Porte de Versailles\, 1 Pl. de la Prte de Versailles\, Paris\, 75015\, France
CATEGORIES:Co-Exhibiting
ATTACH;FMTTYPE=image/jpeg:https://multitech.com/wp-content/uploads/Post-Simple.jpg
END:VEVENT
END:VCALENDAR