BEGIN:VCALENDAR
VERSION:2.0
PRODID:-//MultiTech - ECPv6.10.2//NONSGML v1.0//EN
CALSCALE:GREGORIAN
METHOD:PUBLISH
X-ORIGINAL-URL:https://multitech.com
X-WR-CALDESC:Events for MultiTech
REFRESH-INTERVAL;VALUE=DURATION:PT1H
X-Robots-Tag:noindex
X-PUBLISHED-TTL:PT1H
BEGIN:VTIMEZONE
TZID:America/Chicago
BEGIN:DAYLIGHT
TZOFFSETFROM:-0600
TZOFFSETTO:-0500
TZNAME:CDT
DTSTART:20250309T080000
END:DAYLIGHT
BEGIN:STANDARD
TZOFFSETFROM:-0500
TZOFFSETTO:-0600
TZNAME:CST
DTSTART:20251102T070000
END:STANDARD
END:VTIMEZONE
BEGIN:VEVENT
DTSTART;TZID=America/Chicago:20251111T130000
DTEND;TZID=America/Chicago:20251111T140000
DTSTAMP:20260417T090810
CREATED:20251024T190215Z
LAST-MODIFIED:20251027T214430Z
UID:68602-1762866000-1762869600@multitech.com
SUMMARY:Skip the Cellular Gauntlet: Next-Gen Embedded Cellular Made Easy – STMicroelectronics & MultiTech Webinar
DESCRIPTION:« All Events\n 				\n				\n				\n				\n					\n	MultiTech at Arrow Minnesota Expo 2026				\n				\n		\n		\n				\n				\n					See MultiTech at the Arrow Minnesota Expo on April 30. Discover Geneva\, the embedded cellular platform simplifying global IoT connectivity and accelerating time to market for OEMs and developers.				\n				\n				\n				\n					\n	\n		\n\n	\n	Add to calendar	\n		\n	\n\n		\n			\n									\n	Google Calendar\n\n									\n	iCalendar\n\n									\n	Outlook 365\n\n									\n	Outlook Live\n\n							\n		\n\n		\n	\n\n				\n				\n				\n				\n					\n		\n			April 30\n\n	\n\n	  @  \n\n\n8:00 am\n\n		\n\n\n\n	\n	  -  \n\n5:00 pm\n\n\n\n	\n				\n				\n				\n		\n				\n				\n							\n			 Days Hours Minutes		\n						\n				\n				\n				\n									\n					\n						\n						\n							\n									Schedule a Demo\n					\n					\n				\n								\n				\n				\n				\n		\n		\n				\n				\n					Introducing Geneva; The Easy Button for Global Embedded Cellular IoT				\n				\n				\n				\n									Join MultiTech at the Arrow Minnesota Expo on April 30\, where Brandon Dalida\, Regional Sales Director\, will be on-site showcasing Geneva; MultiTech’s next-generation embedded cellular platform designed to simplify global IoT connectivity. Built to remove the complexity of cellular integration\, Geneva enables OEMs and solution providers to accelerate development\, reduce certification burden\, and scale deployments with confidence. From streamlined design-in to lifecycle management\, Geneva delivers a secure\, interoperable foundation for embedded IoT solutions. Stop by to explore how MultiTech is helping partners move faster\, reduce risk\, and bring connected products to market with greater efficiency. 								\n				\n				\n				\n		\n		\n				\n				\n					\n	\n	Tags:	\n		\n	Arrow Electronics\,\n\n	Arrow Minnesota Expo 2026\,\n\n	cellular IoT\,\n\n	edge connectivity\,\n\n	embedded cellular\,\n\n	embedded modems\,\n\n	Geneva platform\,\n\n	IoT Connectivity\,\n\n	IoT development\,\n\n	Minnesota tech events\,\n\n	MultiTech\,\n\n	OEM solutions\,\n\n	scalable IoT\,\n\n	Secure IoT\n	\n\n				\n				\n				\n		\n				\n				\n					\n	\n	Arrow\n	\n	\n\n	Phone:\n					\n						\n	 \n\n\n	\n\n	Website:View Organizer Website \n\n\n	\n	Email:\n					\n						\n	 \n\n\n\n				\n				\n				\n				\n					\n	\n\n	Categories:	\n		Conference\, Exhibiting	\n\n				\n				\n				\n				\n		\n		\n				\n				\n					\n	\n		\n\n				Hannover Messe 2026	\n\n\n		\n	\n		MultiTech at Connect (X) 2026
URL:https://multitech.com/event/skip-the-cellular-gauntlet-next-gen-embedded-cellular-made-easy-stmicroelectronics-multitech-webinar/
LOCATION:Microsoft Teams Webinar
CATEGORIES:Webinar
ATTACH;FMTTYPE=image/png:https://multitech.com/wp-content/uploads/Untitled-design-2025-10-24T143236.194.png
END:VEVENT
END:VCALENDAR