BEGIN:VCALENDAR
VERSION:2.0
PRODID:-//MultiTech - ECPv6.10.2//NONSGML v1.0//EN
CALSCALE:GREGORIAN
METHOD:PUBLISH
X-ORIGINAL-URL:https://multitech.com
X-WR-CALDESC:Events for MultiTech
REFRESH-INTERVAL;VALUE=DURATION:PT1H
X-Robots-Tag:noindex
X-PUBLISHED-TTL:PT1H
BEGIN:VTIMEZONE
TZID:America/Chicago
BEGIN:DAYLIGHT
TZOFFSETFROM:-0600
TZOFFSETTO:-0500
TZNAME:CDT
DTSTART:20260308T080000
END:DAYLIGHT
BEGIN:STANDARD
TZOFFSETFROM:-0500
TZOFFSETTO:-0600
TZNAME:CST
DTSTART:20261101T070000
END:STANDARD
END:VTIMEZONE
BEGIN:VEVENT
DTSTART;TZID=America/Chicago:20260602T080000
DTEND;TZID=America/Chicago:20260604T170000
DTSTAMP:20260417T083752
CREATED:20260310T163354Z
LAST-MODIFIED:20260310T163625Z
UID:70962-1780387200-1780592400@multitech.com
SUMMARY:RealComm IBcon
DESCRIPTION:« All Events\n 				\n				\n				\n				\n					\n	Sensors Converge				\n				\n		\n		\n				\n				\n					Where Sensors\, Connectivity\, and Intelligent Systems Converge				\n				\n				\n				\n					\n	\n		\n\n	\n	Add to calendar	\n		\n	\n\n		\n			\n									\n	Google Calendar\n\n									\n	iCalendar\n\n									\n	Outlook 365\n\n									\n	Outlook Live\n\n							\n		\n\n		\n	\n\n				\n				\n				\n				\n					\n		\n			May 5\n\n	\n\n	  @  \n\n\n8:00 am\n\n	\n\n		\n	\n	  -  \n\n	May 7\n\n	\n\n	  @  \n\n\n5:00 pm\n\n\n\n	\n				\n				\n				\n		\n				\n				\n							\n			 Days Hours Minutes		\n						\n				\n				\n				\n									\n					\n						\n						\n							\n									Schedule a Demo\n					\n					\n				\n								\n				\n				\n				\n		\n		\n				\n				\n					Meet MultiTech at Sensors Converge to explore connectivity solutions powering the next generation of intelligent devices and IoT systems.				\n				\n				\n				\n									MultiTech will be attending Sensors Converge 2026\, North America’s largest event focused on sensing\, processing\, and connectivity technologies. Bringing together engineers\, designers\, and technology innovators\, the conference explores advancements in edge computing\, embedded design\, MEMS\, AI-driven engineering\, and IoT infrastructure. As intelligent systems increasingly rely on secure and scalable connectivity\, MultiTech supports product developers with embedded cellular modems\, gateways\, routers\, and IoT infrastructure designed to connect devices\, data\, and applications across modern industrial and commercial environments. 								\n				\n				\n				\n		\n		\n				\n				\n					\n	\n	Website:	\n	https://www.sensorsconverge.com/\n\n				\n				\n				\n				\n					\n	\n\n	Categories:	\n		Conference	\n\n				\n				\n				\n		\n				\n				\n					\n	\n	Tags:	\n		\n	AI engineering\,\n\n	connected electronics\,\n\n	connected products\,\n\n	edge computing\,\n\n	embedded cellular\,\n\n	embedded design\,\n\n	embedded modems\,\n\n	embedded systems\,\n\n	Gateways\,\n\n	IIoT\,\n\n	Industrial IoT\,\n\n	intelligent devices\,\n\n	IoT Connectivity\,\n\n	IoT sensors\,\n\n	LTE Cat 1bis\,\n\n	MEMS technology\,\n\n	product development\,\n\n	routers\,\n\n	Sensors Converge\,\n\n	sensors technology\n	\n\n				\n				\n				\n				\n		\n		\n				\n				\n					\n	\n		\n\n				MultiTech at Connect (X) 2026	\n\n\n		\n	\n		Asia Tech 2026
URL:https://multitech.com/event/realcomm-ibcon/
LOCATION:San Diego Convention Center\, 111 Harbor Dr\, San Diego\, CA\, 92101\, United States
CATEGORIES:Conference
ATTACH;FMTTYPE=image/png:https://multitech.com/wp-content/uploads/Untitled-design-2026-03-10T113124.997.png
END:VEVENT
BEGIN:VEVENT
DTSTART;TZID=America/Chicago:20260923T080000
DTEND;TZID=America/Chicago:20260924T170000
DTSTAMP:20260417T083753
CREATED:20260310T193106Z
LAST-MODIFIED:20260310T193334Z
UID:71017-1790150400-1790269200@multitech.com
SUMMARY:The Things Conference
DESCRIPTION:« All Events\n 				\n				\n				\n				\n					\n	Sensors Converge				\n				\n		\n		\n				\n				\n					Where Sensors\, Connectivity\, and Intelligent Systems Converge				\n				\n				\n				\n					\n	\n		\n\n	\n	Add to calendar	\n		\n	\n\n		\n			\n									\n	Google Calendar\n\n									\n	iCalendar\n\n									\n	Outlook 365\n\n									\n	Outlook Live\n\n							\n		\n\n		\n	\n\n				\n				\n				\n				\n					\n		\n			May 5\n\n	\n\n	  @  \n\n\n8:00 am\n\n	\n\n		\n	\n	  -  \n\n	May 7\n\n	\n\n	  @  \n\n\n5:00 pm\n\n\n\n	\n				\n				\n				\n		\n				\n				\n							\n			 Days Hours Minutes		\n						\n				\n				\n				\n									\n					\n						\n						\n							\n									Schedule a Demo\n					\n					\n				\n								\n				\n				\n				\n		\n		\n				\n				\n					Meet MultiTech at Sensors Converge to explore connectivity solutions powering the next generation of intelligent devices and IoT systems.				\n				\n				\n				\n									MultiTech will be attending Sensors Converge 2026\, North America’s largest event focused on sensing\, processing\, and connectivity technologies. Bringing together engineers\, designers\, and technology innovators\, the conference explores advancements in edge computing\, embedded design\, MEMS\, AI-driven engineering\, and IoT infrastructure. As intelligent systems increasingly rely on secure and scalable connectivity\, MultiTech supports product developers with embedded cellular modems\, gateways\, routers\, and IoT infrastructure designed to connect devices\, data\, and applications across modern industrial and commercial environments. 								\n				\n				\n				\n		\n		\n				\n				\n					\n	\n	Website:	\n	https://www.sensorsconverge.com/\n\n				\n				\n				\n				\n					\n	\n\n	Categories:	\n		Conference	\n\n				\n				\n				\n		\n				\n				\n					\n	\n	Tags:	\n		\n	AI engineering\,\n\n	connected electronics\,\n\n	connected products\,\n\n	edge computing\,\n\n	embedded cellular\,\n\n	embedded design\,\n\n	embedded modems\,\n\n	embedded systems\,\n\n	Gateways\,\n\n	IIoT\,\n\n	Industrial IoT\,\n\n	intelligent devices\,\n\n	IoT Connectivity\,\n\n	IoT sensors\,\n\n	LTE Cat 1bis\,\n\n	MEMS technology\,\n\n	product development\,\n\n	routers\,\n\n	Sensors Converge\,\n\n	sensors technology\n	\n\n				\n				\n				\n				\n		\n		\n				\n				\n					\n	\n		\n\n				MultiTech at Connect (X) 2026	\n\n\n		\n	\n		Asia Tech 2026
URL:https://multitech.com/event/the-things-conference/
LOCATION:De Kromhouthal\, Gedempt Hamerkanaal 231\, 1021 KP Amsterdam\, Netherlands
CATEGORIES:Conference
END:VEVENT
BEGIN:VEVENT
DTSTART;TZID=America/Chicago:20261103T080000
DTEND;TZID=America/Chicago:20261105T170000
DTSTAMP:20260417T083753
CREATED:20260310T182509Z
LAST-MODIFIED:20260310T182653Z
UID:70988-1793692800-1793898000@multitech.com
SUMMARY:IoT Solutions World Congress 2026
DESCRIPTION:« All Events\n 				\n				\n				\n				\n					\n	Sensors Converge				\n				\n		\n		\n				\n				\n					Where Sensors\, Connectivity\, and Intelligent Systems Converge				\n				\n				\n				\n					\n	\n		\n\n	\n	Add to calendar	\n		\n	\n\n		\n			\n									\n	Google Calendar\n\n									\n	iCalendar\n\n									\n	Outlook 365\n\n									\n	Outlook Live\n\n							\n		\n\n		\n	\n\n				\n				\n				\n				\n					\n		\n			May 5\n\n	\n\n	  @  \n\n\n8:00 am\n\n	\n\n		\n	\n	  -  \n\n	May 7\n\n	\n\n	  @  \n\n\n5:00 pm\n\n\n\n	\n				\n				\n				\n		\n				\n				\n							\n			 Days Hours Minutes		\n						\n				\n				\n				\n									\n					\n						\n						\n							\n									Schedule a Demo\n					\n					\n				\n								\n				\n				\n				\n		\n		\n				\n				\n					Meet MultiTech at Sensors Converge to explore connectivity solutions powering the next generation of intelligent devices and IoT systems.				\n				\n				\n				\n									MultiTech will be attending Sensors Converge 2026\, North America’s largest event focused on sensing\, processing\, and connectivity technologies. Bringing together engineers\, designers\, and technology innovators\, the conference explores advancements in edge computing\, embedded design\, MEMS\, AI-driven engineering\, and IoT infrastructure. As intelligent systems increasingly rely on secure and scalable connectivity\, MultiTech supports product developers with embedded cellular modems\, gateways\, routers\, and IoT infrastructure designed to connect devices\, data\, and applications across modern industrial and commercial environments. 								\n				\n				\n				\n		\n		\n				\n				\n					\n	\n	Website:	\n	https://www.sensorsconverge.com/\n\n				\n				\n				\n				\n					\n	\n\n	Categories:	\n		Conference	\n\n				\n				\n				\n		\n				\n				\n					\n	\n	Tags:	\n		\n	AI engineering\,\n\n	connected electronics\,\n\n	connected products\,\n\n	edge computing\,\n\n	embedded cellular\,\n\n	embedded design\,\n\n	embedded modems\,\n\n	embedded systems\,\n\n	Gateways\,\n\n	IIoT\,\n\n	Industrial IoT\,\n\n	intelligent devices\,\n\n	IoT Connectivity\,\n\n	IoT sensors\,\n\n	LTE Cat 1bis\,\n\n	MEMS technology\,\n\n	product development\,\n\n	routers\,\n\n	Sensors Converge\,\n\n	sensors technology\n	\n\n				\n				\n				\n				\n		\n		\n				\n				\n					\n	\n		\n\n				MultiTech at Connect (X) 2026	\n\n\n		\n	\n		Asia Tech 2026
URL:https://multitech.com/event/iot-solutions-world-congress-2026/
LOCATION:Fira Gran Via\, Fira Gran Via\, Barcelona\, Hall 1 Stand 121\, Spain
CATEGORIES:Conference
ATTACH;FMTTYPE=image/png:https://multitech.com/wp-content/uploads/Untitled-design-2026-03-10T132417.056.png
END:VEVENT
BEGIN:VEVENT
DTSTART;TZID=America/Chicago:20261202T080000
DTEND;TZID=America/Chicago:20261203T170000
DTSTAMP:20260417T083753
CREATED:20260310T184013Z
LAST-MODIFIED:20260310T185602Z
UID:71001-1796198400-1796317200@multitech.com
SUMMARY:Consumer IoT Summit 2026
DESCRIPTION:« All Events\n 				\n				\n				\n				\n					\n	Sensors Converge				\n				\n		\n		\n				\n				\n					Where Sensors\, Connectivity\, and Intelligent Systems Converge				\n				\n				\n				\n					\n	\n		\n\n	\n	Add to calendar	\n		\n	\n\n		\n			\n									\n	Google Calendar\n\n									\n	iCalendar\n\n									\n	Outlook 365\n\n									\n	Outlook Live\n\n							\n		\n\n		\n	\n\n				\n				\n				\n				\n					\n		\n			May 5\n\n	\n\n	  @  \n\n\n8:00 am\n\n	\n\n		\n	\n	  -  \n\n	May 7\n\n	\n\n	  @  \n\n\n5:00 pm\n\n\n\n	\n				\n				\n				\n		\n				\n				\n							\n			 Days Hours Minutes		\n						\n				\n				\n				\n									\n					\n						\n						\n							\n									Schedule a Demo\n					\n					\n				\n								\n				\n				\n				\n		\n		\n				\n				\n					Meet MultiTech at Sensors Converge to explore connectivity solutions powering the next generation of intelligent devices and IoT systems.				\n				\n				\n				\n									MultiTech will be attending Sensors Converge 2026\, North America’s largest event focused on sensing\, processing\, and connectivity technologies. Bringing together engineers\, designers\, and technology innovators\, the conference explores advancements in edge computing\, embedded design\, MEMS\, AI-driven engineering\, and IoT infrastructure. As intelligent systems increasingly rely on secure and scalable connectivity\, MultiTech supports product developers with embedded cellular modems\, gateways\, routers\, and IoT infrastructure designed to connect devices\, data\, and applications across modern industrial and commercial environments. 								\n				\n				\n				\n		\n		\n				\n				\n					\n	\n	Website:	\n	https://www.sensorsconverge.com/\n\n				\n				\n				\n				\n					\n	\n\n	Categories:	\n		Conference	\n\n				\n				\n				\n		\n				\n				\n					\n	\n	Tags:	\n		\n	AI engineering\,\n\n	connected electronics\,\n\n	connected products\,\n\n	edge computing\,\n\n	embedded cellular\,\n\n	embedded design\,\n\n	embedded modems\,\n\n	embedded systems\,\n\n	Gateways\,\n\n	IIoT\,\n\n	Industrial IoT\,\n\n	intelligent devices\,\n\n	IoT Connectivity\,\n\n	IoT sensors\,\n\n	LTE Cat 1bis\,\n\n	MEMS technology\,\n\n	product development\,\n\n	routers\,\n\n	Sensors Converge\,\n\n	sensors technology\n	\n\n				\n				\n				\n				\n		\n		\n				\n				\n					\n	\n		\n\n				MultiTech at Connect (X) 2026	\n\n\n		\n	\n		Asia Tech 2026
URL:https://multitech.com/event/consumer-iot-summit-2026/
LOCATION:TBD
CATEGORIES:Conference
ATTACH;FMTTYPE=image/png:https://multitech.com/wp-content/uploads/Untitled-design-2026-03-10T133939.244.png
ORGANIZER;CN="IMC IoT M2M Council":MAILTO:info@iotm2mcouncil.org
END:VEVENT
END:VCALENDAR