BEGIN:VCALENDAR
VERSION:2.0
PRODID:-//MultiTech - ECPv6.10.2//NONSGML v1.0//EN
CALSCALE:GREGORIAN
METHOD:PUBLISH
X-ORIGINAL-URL:https://multitech.com
X-WR-CALDESC:Events for MultiTech
REFRESH-INTERVAL;VALUE=DURATION:PT1H
X-Robots-Tag:noindex
X-PUBLISHED-TTL:PT1H
BEGIN:VTIMEZONE
TZID:America/Chicago
BEGIN:DAYLIGHT
TZOFFSETFROM:-0600
TZOFFSETTO:-0500
TZNAME:CDT
DTSTART:20260308T080000
END:DAYLIGHT
BEGIN:STANDARD
TZOFFSETFROM:-0500
TZOFFSETTO:-0600
TZNAME:CST
DTSTART:20261101T070000
END:STANDARD
END:VTIMEZONE
BEGIN:VEVENT
DTSTART;TZID=America/Chicago:20260504T080000
DTEND;TZID=America/Chicago:20260506T170000
DTSTAMP:20260417T140504
CREATED:20260404T231908Z
LAST-MODIFIED:20260404T232108Z
UID:71592-1777881600-1778086800@multitech.com
SUMMARY:MultiTech at Connect (X) 2026
DESCRIPTION:ASLAN2025				\n				\n				\n				\n					32nd edition of the major annual event in Spain organized by the National Association of the Technology Industry				\n				\n				\n				\n									The @aslan Association\, which brings together 198 manufacturers and suppliers specialised in digital innovation and cybersecurity\, is organising the 32nd edition of the ASLAN2025 Congress&EXPO on 18\, 19 and 20 March at the Palacio de Congresos in Madrid under the title: AI + Digital innovation. Major challenges and opportunities.Now more than ever\, companies and public administrations have the opportunity to transform their services and operations. The digital innovation industry is making great strides in developing technological solutions thanks to the incorporation of artificial intelligence. The ASLAN2025 Congress is a unique opportunity to learn how cybersecurity\, the digital workplace\, automation and data management are evolving thanks to AI and how to face new challenges for networks\, multi-cloud environments\, data centers and other digital infrastructures. 								\n				\n				\n				\n							\n											\n					\n						\n																	\n																					\n										\n								\n									Event Website								\n													\n					\n				\n																\n					\n						\n																	\n																					\n										\n								\n									Registration Page								\n													\n					\n				\n														\n				\n					\n		\n				\n			\n						\n				\n							\n			 Days Hours Minutes Seconds		\n						\n				\n				\n				\n									\n					\n						\n						\n							\n									Schedule a Meeting with MultiTech
URL:https://multitech.com/event/multitech-at-connect-x-2026/
LOCATION:Broward County Convention Center\, 1950 Eisenhower Blvd.\, Fort Lauderdale\, FL\, 33316\, United States
CATEGORIES:Booth,Co-Exhibiting,Conference
ATTACH;FMTTYPE=image/jpeg:https://multitech.com/wp-content/uploads/MultiTech-at-Connect-X-2026.jpg
END:VEVENT
END:VCALENDAR