BEGIN:VCALENDAR
VERSION:2.0
PRODID:-//MultiTech - ECPv6.10.2//NONSGML v1.0//EN
CALSCALE:GREGORIAN
METHOD:PUBLISH
X-WR-CALNAME:MultiTech
X-ORIGINAL-URL:https://multitech.com
X-WR-CALDESC:Events for MultiTech
REFRESH-INTERVAL;VALUE=DURATION:PT1H
X-Robots-Tag:noindex
X-PUBLISHED-TTL:PT1H
BEGIN:VTIMEZONE
TZID:America/Chicago
BEGIN:DAYLIGHT
TZOFFSETFROM:-0600
TZOFFSETTO:-0500
TZNAME:CDT
DTSTART:20260308T080000
END:DAYLIGHT
BEGIN:STANDARD
TZOFFSETFROM:-0500
TZOFFSETTO:-0600
TZNAME:CST
DTSTART:20261101T070000
END:STANDARD
END:VTIMEZONE
BEGIN:VEVENT
DTSTART;TZID=America/Chicago:20260111T080000
DTEND;TZID=America/Chicago:20260113T170000
DTSTAMP:20260419T210618
CREATED:20251212T184119Z
LAST-MODIFIED:20251212T184255Z
UID:69419-1768118400-1768323600@multitech.com
SUMMARY:NRF 2026
DESCRIPTION:« All Events\n 				\n				\n				\n				\n					This event has passed. \n				\n				\n				\n				\n					\n	NRF 2026				\n				\n				\n						\n					\n			\n						\n				\n					\n		\n			January 11\n\n	\n\n	  @  \n\n\n8:00 am\n\n	\n\n		\n	\n	  -  \n\n	January 13\n\n	\n\n	  @  \n\n\n5:00 pm\n\n\n\n	\n				\n				\n					\n		\n					\n		\n				\n						\n					\n			\n						\n				\n					Connecting Data to Decisions for Smarter Retail Operations				\n				\n				\n				\n									NRF 2026: Retail’s Big Show brings together the leaders\, innovators\, and technologies shaping the future of retail. At MultiTech\, we’re proud to support that future by helping retailers\, system integrators\, and solution providers connect physical operations to actionable insight—securely\, reliably\, and at scale. Retail environments are becoming more complex\, with increasing pressure to improve operational efficiency\, reduce energy costs\, protect assets\, and deliver better in-store experiences. MultiTech enables retailers to meet these challenges by providing secure edge-to-cloud connectivity that integrates wireless IoT sensor data directly into existing retail systems and workflows. At NRF\, MultiTech will showcase how our LoRaWAN® gateways\, sensors\, and edge intelligence solutions help retailers monitor critical conditions across stores\, distribution centers\, and facilities—without costly wiring or disruptive infrastructure changes. From temperature and humidity monitoring to door\, equipment\, and energy insights\, MultiTech solutions are designed to fit seamlessly into modern retail technology stacks. Built for partnership and engineered for scale\, MultiTech solutions empower integrators and retailers to deploy standards-based IoT across hundreds or thousands of locations\, turning operational data into meaningful insight that supports smarter decisions across the enterprise. Visit MultiTech at NRF to explore how secure connectivity and flexible IoT architecture can help modern retailers simplify operations\, improve visibility\, and build a more connected retail future. 								\n				\n					\n		\n					\n		\n				\n						\n					\n			\n						\n				\n					\n	\n\n	Categories:	\n		Booth	\n\n				\n				\n				\n				\n					\n	\n	Website:	\n	https://nrfbigshow.nrf.com/\n\n				\n				\n					\n		\n				\n			\n						\n				\n					\n	\n	National Retail Federation (NRF)\n	\n	\n\n	Phone:\n					\n			1-202-626-8100			\n	 \n\n\n	\n\n	Website:View Organizer Website \n\n\n	\n	Email:\n					\n			contact@nrf.com			\n	 \n\n\n\n				\n				\n					\n		\n					\n		\n				\n						\n					\n			\n						\n				\n					\n	\n		\n\n	\n	Add to calendar	\n		\n	\n\n		\n			\n									\n	Google Calendar\n\n									\n	iCalendar\n\n									\n	Outlook 365\n\n									\n	Outlook Live\n\n							\n		\n\n		\n	\n\n				\n				\n					\n		\n					\n		\n				\n						\n					\n			\n						\n				\n					\n	\n		\n\n				Consumer Electronics Show CES 2026	\n\n\n		\n	\n		ENTELEC Conference & Expo
URL:https://multitech.com/event/nrf-2026/
LOCATION:Javits Center\, 429 11th Ave\, New York\, 10001\, United States
CATEGORIES:Booth
ORGANIZER;CN="National Retail Federation (NRF)":MAILTO:contact@nrf.com
END:VEVENT
END:VCALENDAR